
BEGIN:VCALENDAR
VERSION:2.0
PRODID:-//hacksw/handcal//NONSGML v1.0//EN
BEGIN:VEVENT
DTSTAMP:20260509T180000Z
DTSTART:20260509T180000Z
DTEND:20260509T200000Z

SUMMARY:Christian Brothers University Graduation
DESCRIPTION:For more information, please contact the school.For suite rental inquiries, please contact info@landerscenter.com.
END:VEVENT
END:VCALENDAR