
BEGIN:VCALENDAR
VERSION:2.0
PRODID:-//hacksw/handcal//NONSGML v1.0//EN
BEGIN:VEVENT
DTSTAMP:20260515T000000Z
DTSTART:20260515T000000Z
DTEND:20260515T020000Z

SUMMARY:Southwest Tennessee Community College Graduation
DESCRIPTION:For more information, please contact the school.
END:VEVENT
END:VCALENDAR